BEGIN:VCALENDAR
VERSION:2.0
PRODID:-//The Regional Support Office of the Bali Process - ECPv6.15.17//NONSGML v1.0//EN
CALSCALE:GREGORIAN
METHOD:PUBLISH
X-WR-CALNAME:The Regional Support Office of the Bali Process
X-ORIGINAL-URL:https://rso.baliprocess.net
X-WR-CALDESC:Events for The Regional Support Office of the Bali Process
REFRESH-INTERVAL;VALUE=DURATION:PT1H
X-Robots-Tag:noindex
X-PUBLISHED-TTL:PT1H
BEGIN:VTIMEZONE
TZID:Australia/Perth
BEGIN:STANDARD
TZOFFSETFROM:+0800
TZOFFSETTO:+0800
TZNAME:AWST
DTSTART:20240101T000000
END:STANDARD
END:VTIMEZONE
BEGIN:VEVENT
DTSTART;VALUE=DATE:20250908
DTEND;VALUE=DATE:20250913
DTSTAMP:20260423T123117
CREATED:20250904T095902Z
LAST-MODIFIED:20250911T032037Z
UID:8708-1757289600-1757721599@rso.baliprocess.net
SUMMARY:Technical Workshop: Building Online Investigations Capacity to Address Trafficking in Persons Into Cyber-scam Centres and Related Transnational Crime
DESCRIPTION:The RSO is organising a five-day technical workshop in Bangkok\, Thailand focused on building capabilities in online investigations among Thai law enforcement officers.
URL:https://rso.baliprocess.net/calendars/technical-workshop-building-online-investigations-capacity-to-address-trafficking-in-persons-into-cyber-scam-centres-and-related-transnational-crime-3/
LOCATION:Bangkok\, Thailand\, Bangkok\, Thailand
CATEGORIES:Training Workshop
ATTACH;FMTTYPE=image/jpeg:https://s3.ap-southeast-2.amazonaws.com/assets.rso.baliprocess.net/app/uploads/2025/09/04175731/IMG_20250818_103836453_HDR-scaled.jpg
END:VEVENT
BEGIN:VEVENT
DTSTART;VALUE=DATE:20250914
DTEND;VALUE=DATE:20250926
DTSTAMP:20260423T123117
CREATED:20250625T064057Z
LAST-MODIFIED:20250625T064057Z
UID:7769-1757808000-1758844799@rso.baliprocess.net
SUMMARY:International People Smuggling Investigations Program (IPSIP)
DESCRIPTION:The RSO will support the delivery of the advanced two-week International People Smuggling Investigations Program (IPSIP) in Cox’s Bazaar\, Bangladesh\, in partnership with the Jakarta Centre for Law Enforcement Cooperation (JCLEC)\, Australian Federal Police\, New Zealand Police and Royal Canadian Mounted Police. By bringing together maritime officials\, immigration\, border and law enforcement from across the region together in this key location\, the course aims to strengthen situational awareness and understanding of the key challenges\, current trends and opportunities for cross-border investigations.
URL:https://rso.baliprocess.net/calendars/international-people-smuggling-investigations-program-ipsip-2/
LOCATION:Cox’s Bazar\, Bangladesh\, Cox's Bazar\, Bangladesh
CATEGORIES:Training Workshop
ATTACH;FMTTYPE=image/jpeg:https://s3.ap-southeast-2.amazonaws.com/assets.rso.baliprocess.net/app/uploads/2024/09/13150823/boat-search-3.jpeg
END:VEVENT
END:VCALENDAR