BEGIN:VCALENDAR
VERSION:2.0
PRODID:-//The Regional Support Office of the Bali Process - ECPv6.15.17//NONSGML v1.0//EN
CALSCALE:GREGORIAN
METHOD:PUBLISH
X-WR-CALNAME:The Regional Support Office of the Bali Process
X-ORIGINAL-URL:https://rso.baliprocess.net
X-WR-CALDESC:Events for The Regional Support Office of the Bali Process
REFRESH-INTERVAL;VALUE=DURATION:PT1H
X-Robots-Tag:noindex
X-PUBLISHED-TTL:PT1H
BEGIN:VTIMEZONE
TZID:Australia/Perth
BEGIN:STANDARD
TZOFFSETFROM:+0800
TZOFFSETTO:+0800
TZNAME:AWST
DTSTART:20250101T000000
END:STANDARD
END:VTIMEZONE
BEGIN:VTIMEZONE
TZID:Asia/Bangkok
BEGIN:STANDARD
TZOFFSETFROM:+0700
TZOFFSETTO:+0700
TZNAME:+07
DTSTART:20250101T000000
END:STANDARD
END:VTIMEZONE
BEGIN:VEVENT
DTSTART;VALUE=DATE:20260223
DTEND;VALUE=DATE:20260228
DTSTAMP:20260422T053412
CREATED:20260112T100931Z
LAST-MODIFIED:20260122T035723Z
UID:9912-1771804800-1772236799@rso.baliprocess.net
SUMMARY:Awareness Raising and Ideation Workshops and Briefings on Prevention of Trafficking into Cyber-Scam Centres
DESCRIPTION:The RSO\, in partnership with Freedom Collaborative\, is convening a series of ideation and awareness-raising workshops in Colombo\, Sri Lanka. The workshops aim to strengthen officers’ ability to identify early risk indicators of trafficking for forced criminality into cyber-scam centres\, enhance screening and interview practices at key points of the migration process\, and improve understanding of evolving recruitment methods\, victim profiles\, and travel patterns linked to cyber-scam centre operations and trafficking for forced criminality. 
URL:https://rso.baliprocess.net/calendars/strengthening-kenyan-immigration-officers-capacity-to-prevent-trafficking-for-forced-criminality-into-cyber-scam-centres/
LOCATION:Colombo\, Sri Lanka\, Colombo\, Sri Lanka
CATEGORIES:Training Workshop
ATTACH;FMTTYPE=image/jpeg:https://s3.ap-southeast-2.amazonaws.com/assets.rso.baliprocess.net/app/uploads/2025/09/16132355/IMG-20240605-WA0008.jpg
END:VEVENT
BEGIN:VEVENT
DTSTART;VALUE=DATE:20260331
DTEND;VALUE=DATE:20260402
DTSTAMP:20260422T053412
CREATED:20260309T074928Z
LAST-MODIFIED:20260318T062330Z
UID:10252-1774915200-1775087999@rso.baliprocess.net
SUMMARY:RILON Maritime People Smuggling Response Group Induction Meeting
DESCRIPTION:The RSO will convene an induction meeting for all RILON secondees from Australia\, Bangladesh\, Indonesia\, Malaysia\, Thailand\, and Timor-Leste\, who will come together to form the RILON Maritime People Smuggling Response Group. This meeting will discuss and agree upon a Terms of Reference and workplan of activities that the RILON secondment group will undertake in support of the Bali Process’ efforts to counter maritime people smuggling and irregular migration. Secondees will also participate in a range of team building activities and capacity-building sessions with a focus on information sharing and leadership.
URL:https://rso.baliprocess.net/calendars/rilon-induction-meeting/
LOCATION:Bangkok\, Thailand\, Bangkok\, Thailand
CATEGORIES:Training Workshop
ATTACH;FMTTYPE=image/jpeg:https://s3.ap-southeast-2.amazonaws.com/assets.rso.baliprocess.net/app/uploads/2026/02/27145232/DSCF3746-scaled.jpg
END:VEVENT
BEGIN:VEVENT
DTSTART;TZID=Asia/Bangkok:20260331T173000
DTEND;TZID=Asia/Bangkok:20260331T173000
DTSTAMP:20260422T053412
CREATED:20260318T064333Z
LAST-MODIFIED:20260318T064333Z
UID:10377-1774978200-1774978200@rso.baliprocess.net
SUMMARY:Welcome Reception for the Incoming RSO Co-Manager from the Government of Australia
DESCRIPTION:The reception will provide an opportunity for participants to hear some short remarks from the Australian and Indonesian Co-Managers\, and to meet with peers and colleagues from across the Bali Process Member State diplomatic corps\, international organisations and stakeholders involved in international migration management\, border governance\, and counter-trafficking efforts based in Bangkok\, Thailand.
URL:https://rso.baliprocess.net/calendars/welcome-reception-for-the-incoming-rso-co-manager-from-the-government-of-australia/
LOCATION:Bangkok\, Thailand\, Bangkok\, Thailand
ATTACH;FMTTYPE=image/png:https://s3.ap-southeast-2.amazonaws.com/assets.rso.baliprocess.net/app/uploads/2026/03/18143440/David-and-Ben.png
END:VEVENT
BEGIN:VEVENT
DTSTART;TZID=Australia/Perth:20260407T080000
DTEND;TZID=Australia/Perth:20260410T170000
DTSTAMP:20260422T053412
CREATED:20260116T034800Z
LAST-MODIFIED:20260313T085303Z
UID:9958-1775548800-1775840400@rso.baliprocess.net
SUMMARY:People’s Police Academy Viet Nam (PPA): Introductory training course on trafficking in persons
DESCRIPTION:The RSO and the People’s Police Academy (PPA) in Hanoi\, Vietnam will run the Introductory Course on Combating Trafficking in Persons to promote critical knowledge around counter trafficking in persons and build capacity amongst PPA cadets and criminal investigators in several provinces to strengthen efforts in counter trafficking in Viet Nam and the wider Mekong region.  
URL:https://rso.baliprocess.net/calendars/peoples-police-academy-viet-nam-ppa-introductory-training-course-on-trafficking-in-persons/
LOCATION:Hanoi\, Viet Nam\, Hanoi\, Viet Nam
CATEGORIES:Training Workshop
ATTACH;FMTTYPE=image/png:https://s3.ap-southeast-2.amazonaws.com/assets.rso.baliprocess.net/app/uploads/2026/01/16114725/Screenshot-2026-01-16-104430.png
END:VEVENT
BEGIN:VEVENT
DTSTART;VALUE=DATE:20260427
DTEND;VALUE=DATE:20260501
DTSTAMP:20260422T053412
CREATED:20260406T033917Z
LAST-MODIFIED:20260406T033917Z
UID:10645-1777248000-1777593599@rso.baliprocess.net
SUMMARY:Technical Workshop: Building Regional Capacity to Address Organised Crime Syndicates Use of Emerging Technologies and Social Media
DESCRIPTION:In response to the growing challenges posed by the use of technology to facilitate trafficking in persons and people smuggling operations across Indonesia\, the RSO is hosting a four-day Technical Workshop in Jakarta\, Indonesia. The workshop aims to equip Indonesian law enforcement officers and criminal justice officials with open-source intelligence (OSINT) skills to proactively identify online recruiters\, detect and report fraudulent job advertisements on social media platforms\, and monitor evolving recruitment tactics used by criminal networks facilitating trafficking in persons and/or people smuggling.
URL:https://rso.baliprocess.net/calendars/technical-workshop-building-regional-capacity-to-address-organised-crime-syndicates-use-of-emerging-technologies-and-social-media/
LOCATION:Jakarta\, Indonesia\, Jakarta\, Indonesia
CATEGORIES:Training Workshop
ATTACH;FMTTYPE=image/jpeg:https://s3.ap-southeast-2.amazonaws.com/assets.rso.baliprocess.net/app/uploads/2025/07/29155034/IMG_8938-scaled.jpg
END:VEVENT
BEGIN:VEVENT
DTSTART;VALUE=DATE:20260428
DTEND;VALUE=DATE:20260429
DTSTAMP:20260422T053412
CREATED:20260406T034438Z
LAST-MODIFIED:20260406T034438Z
UID:10647-1777334400-1777420799@rso.baliprocess.net
SUMMARY:Thematic Dialogue on Preventing and Responding to Trafficking in Persons into Cyber-Scam Centres
DESCRIPTION:The Ministry of Foreign Affairs of the Republic of Indonesia\, in partnership with the RSO\, is hosting a Thematic Dialogue on Preventing and Responding to Trafficking in Persons into Cyber-Scam Centres. This half-day event will bring together key stakeholders from the Indonesian Government\, officials from relevant diplomatic missions located in Jakarta\, and international organisations to discuss current trends\, share effective response strategies and explore opportunities for enhanced cooperation. 
URL:https://rso.baliprocess.net/calendars/thematic-dialogue-on-preventing-and-responding-to-trafficking-in-persons-into-cyber-scam-centres-2/
LOCATION:Jakarta\, Indonesia\, Jakarta\, Indonesia
CATEGORIES:Roundtable or Thematic Dialogue
ATTACH;FMTTYPE=image/jpeg:https://s3.ap-southeast-2.amazonaws.com/assets.rso.baliprocess.net/app/uploads/2025/11/07140227/DSCF2440-scaled.jpg
END:VEVENT
BEGIN:VEVENT
DTSTART;TZID=Australia/Perth:20260608T080000
DTEND;TZID=Australia/Perth:20260612T170000
DTSTAMP:20260422T053412
CREATED:20260402T094458Z
LAST-MODIFIED:20260402T094458Z
UID:10638-1780905600-1781283600@rso.baliprocess.net
SUMMARY:RSO–UNITAR CIFAL Joint Workshop on Border Security Cooperation in the Asia Pacific
DESCRIPTION:The RSO\, together with the United Nations Institute for Training and Research (UNITAR) International Training Centre for Authorities and Leaders in South Korea (CIFAL Jeju)\, will convene a workshop for border and immigration officers from across the Bali Process to strengthen operational capacity in border security. Through expert-led sessions\, peer exchange\, Return-to-Work-Action planning and field visits\, selected officers will examine practical approaches to modern border management\, identity verification\, document security and information sharing in increasingly complex migration environments.
URL:https://rso.baliprocess.net/calendars/rso-unitar-cifal-joint-workshop-on-border-security-cooperation-in-the-asia-pacific/
LOCATION:Jeju\, Jeju\, Korea\, Republic of
CATEGORIES:Training Workshop
ATTACH;FMTTYPE=image/jpeg:https://s3.ap-southeast-2.amazonaws.com/assets.rso.baliprocess.net/app/uploads/2026/03/16171833/DSC2155-1024x663-1.jpg
END:VEVENT
END:VCALENDAR