BEGIN:VCALENDAR
VERSION:2.0
PRODID:-//The Regional Support Office of the Bali Process - ECPv6.15.17//NONSGML v1.0//EN
CALSCALE:GREGORIAN
METHOD:PUBLISH
X-ORIGINAL-URL:https://rso.baliprocess.net
X-WR-CALDESC:Events for The Regional Support Office of the Bali Process
REFRESH-INTERVAL;VALUE=DURATION:PT1H
X-Robots-Tag:noindex
X-PUBLISHED-TTL:PT1H
BEGIN:VTIMEZONE
TZID:Australia/Perth
BEGIN:STANDARD
TZOFFSETFROM:+0800
TZOFFSETTO:+0800
TZNAME:AWST
DTSTART:20230101T000000
END:STANDARD
END:VTIMEZONE
BEGIN:VEVENT
DTSTART;TZID=Australia/Perth:20240820T080000
DTEND;TZID=Australia/Perth:20240821T170000
DTSTAMP:20260422T050802
CREATED:20250310T074830Z
LAST-MODIFIED:20250310T090115Z
UID:6725-1724140800-1724259600@rso.baliprocess.net
SUMMARY:Regional Consultation on Enhancing Trafficking in Persons Related Legal Frameworks
DESCRIPTION:The RSO will hold the Regional Consultation on Enhancing Trafficking in Persons Related Legal Frameworks with the International Organization for Migration (IOM) Thailand. The two-day workshop will bring together approximately 50 experts and practitioners from select South and Southeast Asian countries including representatives from justice ministries\, law enforcement\, immigration officials\, and agencies mandated to provide victim protection and assistance.
URL:https://rso.baliprocess.net/calendars/regional-consultation-on-enhancing-trafficking-in-persons-related-legal-frameworks/
LOCATION:Bangkok\, Thailand\, Bangkok\, Thailand
CATEGORIES:Webinar,External Event
ATTACH;FMTTYPE=image/jpeg:https://s3.ap-southeast-2.amazonaws.com/assets.rso.baliprocess.net/app/uploads/2024/08/01112242/IMG_1876-scaled-e1722482674947.jpg
END:VEVENT
BEGIN:VEVENT
DTSTART;TZID=Australia/Perth:20240819T080000
DTEND;TZID=Australia/Perth:20240830T170000
DTSTAMP:20260422T050802
CREATED:20250310T074626Z
LAST-MODIFIED:20250310T074626Z
UID:6722-1724054400-1725037200@rso.baliprocess.net
SUMMARY:International People Smuggling Investigations Program (IPSIP)
DESCRIPTION:IPSIP is a two-week course led by the RSO designed to address the challenge of people smuggling in the region through training\, capacity building\, and international collaboration. The program is delivered by the RSO in partnership with the Australian Federal Police\, New Zealand Police\, Royal Canadian Mounted Police and the Jakarta Centre for Law Enforcement Cooperation.
URL:https://rso.baliprocess.net/calendars/international-people-smuggling-investigations-program-ipsip/
LOCATION:Penang\, Malaysia
CATEGORIES:Training Workshop
ATTACH;FMTTYPE=image/jpeg:https://s3.ap-southeast-2.amazonaws.com/assets.rso.baliprocess.net/app/uploads/2024/01/04143424/DSC_0368-scaled-e1704350078851.jpg
END:VEVENT
BEGIN:VEVENT
DTSTART;TZID=Australia/Perth:20240606T080000
DTEND;TZID=Australia/Perth:20240606T170000
DTSTAMP:20260422T050802
CREATED:20250310T075344Z
LAST-MODIFIED:20250310T075344Z
UID:6730-1717660800-1717693200@rso.baliprocess.net
SUMMARY:Consultation to Update the Bali Process Policy Guide on Following the Money in Trafficking in Persons Cases
DESCRIPTION:This half-day consultation will bring together Bali Process Member States and Organisations that served on the original Drafting Committee of the Policy Guide on Following the Money in Trafficking in Persons Cases\, together with the Global Initiative on Transnational Organized Crime (GI-TOC)\, ASEAN-ACT and Bali Process Members with significant financial service industries or those notably impacted by recent trafficking trends. \nThe consultation aims to review the current Policy Guide\, identify areas that require updating\, and propose recommendations to enhance its relevance and usefulness for law enforcement and criminal justice officials. \n 
URL:https://rso.baliprocess.net/calendars/consultation-to-update-the-bali-process-policy-guide-on-following-the-money-in-trafficking-in-persons-cases/
LOCATION:Jakarta\, Indonesia\, Jakarta\, Indonesia
CATEGORIES:Roundtable or Thematic Dialogue
ATTACH;FMTTYPE=image/png:https://s3.ap-southeast-2.amazonaws.com/assets.rso.baliprocess.net/app/uploads/2024/01/11175054/Screenshot-2024-01-11-165004-1-e1704966678178.png
END:VEVENT
BEGIN:VEVENT
DTSTART;TZID=Australia/Perth:20240603T080000
DTEND;TZID=Australia/Perth:20240607T170000
DTSTAMP:20260422T050802
CREATED:20250310T081402Z
LAST-MODIFIED:20250310T081402Z
UID:6750-1717401600-1717779600@rso.baliprocess.net
SUMMARY:Workshop on Border Management by Air   
DESCRIPTION:The RSO will hold a capacity building Workshop on Border Management by Air in partnership with the Jakarta Centre for Law Enforcement Cooperation over 3-7 June 2024.
URL:https://rso.baliprocess.net/calendars/workshop-on-border-management-by-air/
LOCATION:Jakarta\, Indonesia\, Jakarta\, Indonesia
CATEGORIES:Training Workshop
ATTACH;FMTTYPE=image/jpeg:https://s3.ap-southeast-2.amazonaws.com/assets.rso.baliprocess.net/app/uploads/2024/01/03154741/Jeju-8.jpg
END:VEVENT
BEGIN:VEVENT
DTSTART;TZID=Australia/Perth:20240515T080000
DTEND;TZID=Australia/Perth:20240516T170000
DTSTAMP:20260422T050802
CREATED:20250310T075026Z
LAST-MODIFIED:20250310T075026Z
UID:6727-1715760000-1715878800@rso.baliprocess.net
SUMMARY:Organized Crime\, Critical Technologies and their Impact in South East Asia and Beyond
DESCRIPTION:This side event to the 33rd United Nations Commission on Crime Prevention and Criminal Justice\, organised by Australia with support from the RSO\, Indonesia\, the Philippines\, and the Global Initiative Against Transnational Organized Crime (GI-TOC)\, will explore the dynamics of the rapid development of technology and cyberspace and how technologies such as cryptocurrencies\, artificial intelligence\, natural language processing software and social media have been used by organised crime. The event will explore how these technologies have supported an explosion of criminality\, while also investigating how global and regional responses can be more effective.
URL:https://rso.baliprocess.net/calendars/organized-crime-critical-technologies-and-their-impact-in-south-east-asia-and-beyond/
LOCATION:Virtual (Zoom)
CATEGORIES:Webinar,External Event
ATTACH;FMTTYPE=image/png:https://s3.ap-southeast-2.amazonaws.com/assets.rso.baliprocess.net/app/uploads/2024/01/11175054/Screenshot-2024-01-11-165004-1-e1704966678178.png
END:VEVENT
BEGIN:VEVENT
DTSTART;TZID=Australia/Perth:20240506T080000
DTEND;TZID=Australia/Perth:20240506T170000
DTSTAMP:20260422T050802
CREATED:20250310T075539Z
LAST-MODIFIED:20250310T075539Z
UID:6733-1714982400-1715014800@rso.baliprocess.net
SUMMARY:2024 Members' Engagement Function
DESCRIPTION:The RSO’s 2024 Members’ Engagement Function will take place in Jakarta\, bringing together Bali Process Members\, relevant Indonesian government agencies and wider partners and stakeholders for a networking event\, to celebrate collaboration\, cooperation\, and dialogue around regional efforts to counter people smuggling\, trafficking in persons and transnational crime.
URL:https://rso.baliprocess.net/calendars/2024-members-engagement-function/
LOCATION:Jakarta\, Indonesia\, Jakarta\, Indonesia
CATEGORIES:Roundtable or Thematic Dialogue
ATTACH;FMTTYPE=image/png:https://s3.ap-southeast-2.amazonaws.com/assets.rso.baliprocess.net/app/uploads/2024/03/29133626/Screenshot-2024-03-29-123606-e1711690667922.png
END:VEVENT
BEGIN:VEVENT
DTSTART;VALUE=DATE:20240409
DTEND;VALUE=DATE:20240612
DTSTAMP:20260422T050802
CREATED:20250310T080242Z
LAST-MODIFIED:20250529T085518Z
UID:6741-1712620800-1718150399@rso.baliprocess.net
SUMMARY:Workshop for Strengthening Mongolia’s Cybercrime Investigative Capacity into Trafficking in Persons Cases
DESCRIPTION:The RSO will hold the second workshop for strengthening Mongolia’s cybercrime investigative capacity into trafficking in persons cases from 9-11 April 2024.
URL:https://rso.baliprocess.net/calendars/workshop-for-strengthening-mongolias-cybercrime-investigative-capacity-into-trafficking-in-persons-cases/
CATEGORIES:Training Workshop
ATTACH;FMTTYPE=image/jpeg:https://s3.ap-southeast-2.amazonaws.com/assets.rso.baliprocess.net/app/uploads/2024/02/15112243/Media-2-e1707967440284.jpeg
END:VEVENT
BEGIN:VEVENT
DTSTART;VALUE=DATE:20240406
DTEND;VALUE=DATE:20240407
DTSTAMP:20260422T050802
CREATED:20250310T075712Z
LAST-MODIFIED:20250529T085633Z
UID:6735-1712361600-1712447999@rso.baliprocess.net
SUMMARY:Technical Experts Meeting on Following the Money in Trafficking in Persons
DESCRIPTION:Given the rapid change of the trafficking in persons landscape in Southeast Asia\, as well as the methods used to transfer and launder related illicit proceeds\, the Regional Support Office of the Bali Process (RSO)\, ASEAN-Australian Counter Trafficking (ASEAN-ACT) and the Global Initiative Against Transnational Organized Crime (GI-TOC) are holding a two-day Technical Experts Meeting on Following the Money in Trafficking in Persons from 4 to 5 June 2024. \nObjectives:\n1. Develop a shared understanding of current trends and challenges on illicit money flows associated with trafficking in persons and money laundering\n2. Identify best practice and challenges in current financial investigations linked to trafficking in persons\n3. Understanding illicit money flows from forced labour in selected industries (fishing\, agriculture\, and adult entertainment industry)\, and illicit money flows from forced criminality in cyber scam centre operations\n4. Develop a shared understanding of the role of informal
URL:https://rso.baliprocess.net/calendars/technical-experts-meeting-on-following-the-money-in-trafficking-in-persons/
LOCATION:Jakarta\, Indonesia\, Jakarta\, Indonesia
CATEGORIES:Roundtable or Thematic Dialogue
ATTACH;FMTTYPE=image/png:https://s3.ap-southeast-2.amazonaws.com/assets.rso.baliprocess.net/app/uploads/2024/01/11175054/Screenshot-2024-01-11-165004-1-e1704966678178.png
END:VEVENT
BEGIN:VEVENT
DTSTART;TZID=Australia/Perth:20240319T080000
DTEND;TZID=Australia/Perth:20240320T170000
DTSTAMP:20260422T050802
CREATED:20250310T081036Z
LAST-MODIFIED:20250310T081036Z
UID:6746-1710835200-1710954000@rso.baliprocess.net
SUMMARY:Regional Workshop on Prosecuting Trafficking in Persons for Forced Criminality Associated with Scams Centres in Southeast Asia
DESCRIPTION:The RSO will hold a Regional Workshop on Prosecuting Trafficking in Persons for Forced Criminality Associated with Scams Centres in Southeast Asia\, with the Thai Attorney General’s Office\, the International Justice Mission (IJM)\, and the United Nations Office on Drugs and Crime (UNODC).
URL:https://rso.baliprocess.net/calendars/regional-workshop-on-prosecuting-trafficking-in-persons-for-forced-criminality-associated-with-scams-centres-in-southeast-asia/
LOCATION:Bangkok\, Thailand\, Bangkok\, Thailand
CATEGORIES:Training Workshop
ATTACH;FMTTYPE=image/jpeg:https://s3.ap-southeast-2.amazonaws.com/assets.rso.baliprocess.net/app/uploads/2024/02/15111116/DSC03329-scaled.jpg
END:VEVENT
BEGIN:VEVENT
DTSTART;VALUE=DATE:20240310
DTEND;VALUE=DATE:20240311
DTSTAMP:20260422T050802
CREATED:20250310T080030Z
LAST-MODIFIED:20250529T085355Z
UID:6738-1710028800-1710115199@rso.baliprocess.net
SUMMARY:Countering trafficking in persons: Assessment of Palermo Protocol implementation in Bali Process Member States’ national legal frameworks
DESCRIPTION:The RSO is hosting a webinar to introduce a new Assessment Tool to support the assessment of national legal frameworks of Member States\, and the implementation of the Palermo Protocol on Trafficking in Persons within Member States’ legislation. The webinar will also offer participants the opportunity to learn about current trafficking trends. \nRegister your attendance here.
URL:https://rso.baliprocess.net/calendars/countering-trafficking-in-persons-assessment-of-palermo-protocol-implementation-in-bali-process-member-states-national-legal-frameworks/
LOCATION:Online\, Online
CATEGORIES:Webinar
ATTACH;FMTTYPE=image/jpeg:https://s3.ap-southeast-2.amazonaws.com/assets.rso.baliprocess.net/app/uploads/2024/03/15113043/DSC03070-scaled.jpg
END:VEVENT
BEGIN:VEVENT
DTSTART;TZID=Australia/Perth:20240219T080000
DTEND;TZID=Australia/Perth:20240220T170000
DTSTAMP:20260422T050802
CREATED:20250310T081214Z
LAST-MODIFIED:20250310T081214Z
UID:6748-1708329600-1708448400@rso.baliprocess.net
SUMMARY:Roundtable on Combatting Maritime People Smuggling in the Andaman Sea Region
DESCRIPTION:The escalating trend of people smuggling activities via the Andaman Sea region is a significant challenge for Bali Process Member States\, posing a threat to the region’s security and wellbeing. In response\, this Roundtable will bring together key stakeholders responsible for combatting maritime people smuggling with a shared interest in promoting regional cooperation and coordination to prevent\, detect\, and disrupt people smuggling operations in the Andaman Sea region.
URL:https://rso.baliprocess.net/calendars/roundtable-on-combatting-maritime-people-smuggling-in-the-andaman-sea-region/
LOCATION:Bangkok\, Thailand\, Bangkok\, Thailand
CATEGORIES:Roundtable or Thematic Dialogue
ATTACH;FMTTYPE=image/jpeg:https://s3.ap-southeast-2.amazonaws.com/assets.rso.baliprocess.net/app/uploads/2024/01/18105557/banda-aceh-day-cal-image.jpg
END:VEVENT
BEGIN:VEVENT
DTSTART;TZID=Australia/Perth:20240123T080000
DTEND;TZID=Australia/Perth:20240125T170000
DTSTAMP:20260422T050802
CREATED:20250310T083851Z
LAST-MODIFIED:20250310T083851Z
UID:6760-1705996800-1706202000@rso.baliprocess.net
SUMMARY:Bali Process Disruption Working Group Joint Period of Action ‘Progression Session’
DESCRIPTION:The RSO will support the Bali Process Disruption Working Group Joint Period of Action ‘Progression Session’ event in January 2024.
URL:https://rso.baliprocess.net/calendars/bali-process-disruption-working-group-joint-period-of-action-progression-session/
LOCATION:Bangkok\, Thailand\, Bangkok\, Thailand
CATEGORIES:Bali Process Working Group
ATTACH;FMTTYPE=image/png:https://s3.ap-southeast-2.amazonaws.com/assets.rso.baliprocess.net/app/uploads/2023/12/26161911/Bali-Process-full-banner-no-2nd-line-e1703578912339.png
END:VEVENT
BEGIN:VEVENT
DTSTART;TZID=Australia/Perth:20240117T080000
DTEND;TZID=Australia/Perth:20240119T170000
DTSTAMP:20260422T050802
CREATED:20250310T084023Z
LAST-MODIFIED:20250310T084023Z
UID:6763-1705478400-1705683600@rso.baliprocess.net
SUMMARY:Workshop on Challenges and Lessons Learned in Investigation and Prosecution of Trafficking in Persons cases
DESCRIPTION:The RSO will support Thailand’s Department of Special Investigation’s Workshop on Challenges and Lessons Learned in Investigation and Prosecution of Trafficking in Persons cases over 17-19\, January 2024 in Chiang Mai\, Thailand.
URL:https://rso.baliprocess.net/calendars/workshop-on-challenges-and-lessons-learned-in-investigation-and-prosecution-of-trafficking-in-persons-cases/
LOCATION:Chiang Mai\, Thailand
CATEGORIES:External Event
ATTACH;FMTTYPE=image/jpeg:https://s3.ap-southeast-2.amazonaws.com/assets.rso.baliprocess.net/app/uploads/2023/12/23223709/shutterstock_2356165181-scaled.jpg
END:VEVENT
BEGIN:VEVENT
DTSTART;TZID=Australia/Perth:20240116T080000
DTEND;TZID=Australia/Perth:20240118T170000
DTSTAMP:20260422T050802
CREATED:20250310T083651Z
LAST-MODIFIED:20250310T083651Z
UID:6757-1705392000-1705597200@rso.baliprocess.net
SUMMARY:Strengthening Mongolia's Cyber-Crime Investigations on Human Trafficking
DESCRIPTION:The RSO will hold a training course on Strengthening Mongolia’s Cyber-Crime Investigations on Human Trafficking in Ulaanbaatar\, Mongolia over 16-18 January.
URL:https://rso.baliprocess.net/calendars/strengthening-mongolias-cyber-crime-investigations-on-human-trafficking/
LOCATION:Ulaanbaatar\, Mongolia
CATEGORIES:External Event
ATTACH;FMTTYPE=image/png:https://s3.ap-southeast-2.amazonaws.com/assets.rso.baliprocess.net/app/uploads/2023/12/26161821/HD_RSO_logo_black_lettering_no_background.png
END:VEVENT
BEGIN:VEVENT
DTSTART;TZID=Australia/Perth:20240115T080000
DTEND;TZID=Australia/Perth:20240118T170000
DTSTAMP:20260422T050802
CREATED:20250310T083449Z
LAST-MODIFIED:20250310T083449Z
UID:6754-1705305600-1705597200@rso.baliprocess.net
SUMMARY:Introductory Training Course on Trafficking in Persons for Cadets at the People’s Police Academy\, Hanoi
DESCRIPTION:The RSO will hold an Introductory Training Course on Trafficking in Persons for Cadets at the People’s Police Academy\, Hanoi\, Viet Nam over 15-18 January 2024.
URL:https://rso.baliprocess.net/calendars/introductory-training-course-on-trafficking-in-persons-for-cadets-at-the-peoples-police-academy-hanoi/
LOCATION:Hanoi\, Viet Nam\, Hanoi\, Viet Nam
CATEGORIES:Training Workshop
ATTACH;FMTTYPE=image/jpeg:https://s3.ap-southeast-2.amazonaws.com/assets.rso.baliprocess.net/app/uploads/2023/12/23233152/6-scaled.jpg
END:VEVENT
END:VCALENDAR