BEGIN:VCALENDAR
VERSION:2.0
PRODID:-//The Regional Support Office of the Bali Process - ECPv6.15.17//NONSGML v1.0//EN
CALSCALE:GREGORIAN
METHOD:PUBLISH
X-ORIGINAL-URL:https://rso.baliprocess.net
X-WR-CALDESC:Events for The Regional Support Office of the Bali Process
REFRESH-INTERVAL;VALUE=DURATION:PT1H
X-Robots-Tag:noindex
X-PUBLISHED-TTL:PT1H
BEGIN:VTIMEZONE
TZID:Australia/Perth
BEGIN:STANDARD
TZOFFSETFROM:+0800
TZOFFSETTO:+0800
TZNAME:AWST
DTSTART:20230101T000000
END:STANDARD
END:VTIMEZONE
BEGIN:VEVENT
DTSTART;TZID=Australia/Perth:20240219T080000
DTEND;TZID=Australia/Perth:20240220T170000
DTSTAMP:20260423T095544
CREATED:20250310T081214Z
LAST-MODIFIED:20250310T081214Z
UID:6748-1708329600-1708448400@rso.baliprocess.net
SUMMARY:Roundtable on Combatting Maritime People Smuggling in the Andaman Sea Region
DESCRIPTION:The escalating trend of people smuggling activities via the Andaman Sea region is a significant challenge for Bali Process Member States\, posing a threat to the region’s security and wellbeing. In response\, this Roundtable will bring together key stakeholders responsible for combatting maritime people smuggling with a shared interest in promoting regional cooperation and coordination to prevent\, detect\, and disrupt people smuggling operations in the Andaman Sea region.
URL:https://rso.baliprocess.net/calendars/roundtable-on-combatting-maritime-people-smuggling-in-the-andaman-sea-region/
LOCATION:Bangkok\, Thailand\, Bangkok\, Thailand
CATEGORIES:Roundtable or Thematic Dialogue
ATTACH;FMTTYPE=image/jpeg:https://s3.ap-southeast-2.amazonaws.com/assets.rso.baliprocess.net/app/uploads/2024/01/18105557/banda-aceh-day-cal-image.jpg
END:VEVENT
END:VCALENDAR