BEGIN:VCALENDAR
VERSION:2.0
PRODID:-//The Regional Support Office of the Bali Process - ECPv6.15.17//NONSGML v1.0//EN
CALSCALE:GREGORIAN
METHOD:PUBLISH
X-WR-CALNAME:The Regional Support Office of the Bali Process
X-ORIGINAL-URL:https://rso.baliprocess.net
X-WR-CALDESC:Events for The Regional Support Office of the Bali Process
REFRESH-INTERVAL;VALUE=DURATION:PT1H
X-Robots-Tag:noindex
X-PUBLISHED-TTL:PT1H
BEGIN:VTIMEZONE
TZID:Asia/Bangkok
BEGIN:STANDARD
TZOFFSETFROM:+0700
TZOFFSETTO:+0700
TZNAME:+07
DTSTART:20240101T000000
END:STANDARD
END:VTIMEZONE
BEGIN:VTIMEZONE
TZID:Australia/Perth
BEGIN:STANDARD
TZOFFSETFROM:+0800
TZOFFSETTO:+0800
TZNAME:AWST
DTSTART:20240101T000000
END:STANDARD
END:VTIMEZONE
BEGIN:VEVENT
DTSTART;VALUE=DATE:20250527
DTEND;VALUE=DATE:20250531
DTSTAMP:20260422T070530
CREATED:20250508T074523Z
LAST-MODIFIED:20250530T023851Z
UID:7174-1748304000-1748649599@rso.baliprocess.net
SUMMARY:Interregional Technical Workshop: Building Online Investigations Capacity to Address Trafficking in Persons into Cyber-Scam Centres and Related Transnational Crime
DESCRIPTION:The RSO is organising a four-day Interregional Technical Workshop in Chiang Saen\, Thailand over 27-30 May 2025\, focused on enhancing open-source intelligence (OSINT) skills to respond to the growing challenges posed by cyber-scam centres across South and Southeast Asia. This interregional workshop builds upon recent OSINT trainings conducted in Bangkok\, Thailand and Colombo\, Sri Lanka in March and April 2025. \nFor more information\, please contact us at info@rso.baliprocess.net
URL:https://rso.baliprocess.net/calendars/interregional-technical-workshop-building-online-investigations-capacity-to-address-trafficking-in-persons-into-cyber-scam-centres-and-related-transnational-crime/
LOCATION:Chiang Saen\, Chiang Saen\, Thailand
ATTACH;FMTTYPE=image/jpeg:https://s3.ap-southeast-2.amazonaws.com/assets.rso.baliprocess.net/app/uploads/2025/02/20111602/IMG_4971-scaled-e1746689955857.jpg
END:VEVENT
BEGIN:VEVENT
DTSTART;TZID=Australia/Perth:20250527T080000
DTEND;TZID=Australia/Perth:20250528T170000
DTSTAMP:20260422T070530
CREATED:20250324T095507Z
LAST-MODIFIED:20250526T030313Z
UID:6868-1748332800-1748451600@rso.baliprocess.net
SUMMARY:Regional Meeting on Countering People Smuggling and Related Transnational Crime
DESCRIPTION:The Regional Meeting on Countering People Smuggling and Related Transnational Crime\, held together with the Government of Malaysia which holds the role of ASEAN Chair for 2025 and Voluntary Lead Shepherd for People Smuggling\, will convene ASEAN Member States\, Bangladesh\, Sri Lanka\, Timor Leste and Australia. \nThe meeting will gather senior officials to discuss opportunities identified at a 2024 RSO Roundtable held following the Third Activation of the Bali Process Consultation Mechanism\, to drive forward progress on a strengthened shared regional approach\, ahead of the 2025/26 Sailing Season.
URL:https://rso.baliprocess.net/calendars/regional-meeting-on-countering-people-smuggling-and-related-transnational-crime/
LOCATION:Kuala Lumpur\, Malaysia\, Kuala Lumpur\, Malaysia
CATEGORIES:Roundtable or Thematic Dialogue
ATTACH;FMTTYPE=image/jpeg:https://s3.ap-southeast-2.amazonaws.com/assets.rso.baliprocess.net/app/uploads/2024/03/05112819/GGrGxNBaUAA-4W1-scaled-e1709609347177.jpeg
END:VEVENT
BEGIN:VEVENT
DTSTART;TZID=Australia/Perth:20250527T170000
DTEND;TZID=Australia/Perth:20250527T210000
DTSTAMP:20260422T070530
CREATED:20250501T043145Z
LAST-MODIFIED:20250501T043145Z
UID:7036-1748365200-1748379600@rso.baliprocess.net
SUMMARY:RSO Members' Engagement Function
DESCRIPTION:The RSO Members’ Engagement Function in Kuala Lumpur\, Malaysia will convene Government officials\, members of the diplomatic corps\, International Organisations and regional partners and actors for an evening networking event. The event aims to support attendees to form new connections across borders and sectors\, to strengthen existing relationships\, and identify opportunities for collaboration in an informal setting. 
URL:https://rso.baliprocess.net/calendars/rso-members-engagement-function/
LOCATION:Kuala Lumpur\, Malaysia\, Kuala Lumpur\, Malaysia
CATEGORIES:RSO Annual Event
ATTACH;FMTTYPE=image/jpeg:https://s3.ap-southeast-2.amazonaws.com/assets.rso.baliprocess.net/app/uploads/2025/03/20163806/DSC09288-1-1-scaled.jpg
END:VEVENT
END:VCALENDAR