BEGIN:VCALENDAR
VERSION:2.0
PRODID:-//The Regional Support Office of the Bali Process - ECPv6.15.17//NONSGML v1.0//EN
CALSCALE:GREGORIAN
METHOD:PUBLISH
X-WR-CALNAME:The Regional Support Office of the Bali Process
X-ORIGINAL-URL:https://rso.baliprocess.net
X-WR-CALDESC:Events for The Regional Support Office of the Bali Process
REFRESH-INTERVAL;VALUE=DURATION:PT1H
X-Robots-Tag:noindex
X-PUBLISHED-TTL:PT1H
BEGIN:VTIMEZONE
TZID:Australia/Perth
BEGIN:STANDARD
TZOFFSETFROM:+0800
TZOFFSETTO:+0800
TZNAME:AWST
DTSTART:20240101T000000
END:STANDARD
END:VTIMEZONE
BEGIN:VEVENT
DTSTART;TZID=Australia/Perth:20250624T080000
DTEND;TZID=Australia/Perth:20250626T170000
DTSTAMP:20260422T052952
CREATED:20250324T100209Z
LAST-MODIFIED:20250428T092356Z
UID:6870-1750752000-1750957200@rso.baliprocess.net
SUMMARY:Introduction to Countering People Smuggling Course
DESCRIPTION:The Introduction to Countering People Smuggling Course will include a series of interactive modules which will provide participants with a deeper understanding of regional dynamics\, legal frameworks\, investigative techniques\, and strategies to counter people smuggling more effectively. This course aims to equip participants with knowledge and tools to address the complexities of people smuggling\, enhance operational responses\, and foster collaboration among Bali Process Member States.
URL:https://rso.baliprocess.net/calendars/introduction-to-countering-people-smuggling-course/
LOCATION:Bangkok\, Thailand\, Bangkok\, Thailand
CATEGORIES:Training Workshop
ATTACH;FMTTYPE=image/jpeg:https://s3.ap-southeast-2.amazonaws.com/assets.rso.baliprocess.net/app/uploads/2025/03/24175838/Image-2.jpg
END:VEVENT
END:VCALENDAR