BEGIN:VCALENDAR
VERSION:2.0
PRODID:-//The Regional Support Office of the Bali Process - ECPv6.15.17//NONSGML v1.0//EN
CALSCALE:GREGORIAN
METHOD:PUBLISH
X-ORIGINAL-URL:https://rso.baliprocess.net
X-WR-CALDESC:Events for The Regional Support Office of the Bali Process
REFRESH-INTERVAL;VALUE=DURATION:PT1H
X-Robots-Tag:noindex
X-PUBLISHED-TTL:PT1H
BEGIN:VTIMEZONE
TZID:Australia/Perth
BEGIN:STANDARD
TZOFFSETFROM:+0800
TZOFFSETTO:+0800
TZNAME:AWST
DTSTART:20240101T000000
END:STANDARD
END:VTIMEZONE
BEGIN:VEVENT
DTSTART;VALUE=DATE:20250818
DTEND;VALUE=DATE:20250822
DTSTAMP:20260422T014334
CREATED:20250729T034908Z
LAST-MODIFIED:20250730T075148Z
UID:8433-1755475200-1755820799@rso.baliprocess.net
SUMMARY:National Workshop on Strengthening Online Investigations into Cyber-Scam Centres
DESCRIPTION:The RSO is organising a four-day technical workshop in Chonburi\, Thailand focused on building capabilities in online investigations among Thai law enforcement officers.
URL:https://rso.baliprocess.net/calendars/national-workshop-on-strengthening-online-investigations-into-cyber-scam-centres/
LOCATION:Chonburi\, Thailand\, Chonburi\, Thailand
CATEGORIES:Training Workshop
ATTACH;FMTTYPE=image/jpeg:https://s3.ap-southeast-2.amazonaws.com/assets.rso.baliprocess.net/app/uploads/2025/07/16120520/Picture25.jpg
END:VEVENT
BEGIN:VEVENT
DTSTART;VALUE=DATE:20250819
DTEND;VALUE=DATE:20250820
DTSTAMP:20260422T014334
CREATED:20250627T083303Z
LAST-MODIFIED:20250627T083303Z
UID:7828-1755561600-1755647999@rso.baliprocess.net
SUMMARY:Panel Discussion on Information\, Perception\, and Migration Realities in Indonesia
DESCRIPTION:This Panel Discussion on Information\, Perception\, and Migration Realities in Indonesia will bring together relevant stakeholders within the Government of the Republic of Indonesia to collectively explore and understand the irregular migration landscape in Indonesia. The discussion will draw on findings from the RSO assessment on Community Perceptions and Information Needs of Persons at Risk of Irregular Migration in Bali Process Member States: Evidence from Bangladesh\, Indonesia\, Malaysia\, and Thailand. 
URL:https://rso.baliprocess.net/calendars/panel-discussion-on-information-perception-and-migration-realities-in-indonesia/
LOCATION:Jakarta\, Indonesia\, Jakarta\, Indonesia
CATEGORIES:Roundtable or Thematic Dialogue
ATTACH;FMTTYPE=image/jpeg:https://s3.ap-southeast-2.amazonaws.com/assets.rso.baliprocess.net/app/uploads/2025/06/23173122/GsKe8gjaUAUmpQJ-scaled.jpeg
END:VEVENT
BEGIN:VEVENT
DTSTART;VALUE=DATE:20250819
DTEND;VALUE=DATE:20250823
DTSTAMP:20260422T014334
CREATED:20250627T083058Z
LAST-MODIFIED:20250807T041001Z
UID:7826-1755561600-1755907199@rso.baliprocess.net
SUMMARY:Training Workshop on Protection-Sensitive Border Management and Screening and Referral of Vulnerable Migrants
DESCRIPTION:Building on the 2023 RSO-led training workshop in Aceh\, Indonesia\, this training workshop aims to enhance the knowledge and skills of frontline officials from Indonesia and Malaysia in detecting and responding to trafficking in persons and smuggling of migrants. The workshop will support participants to understand legal frameworks and protections in place\, to recognise and identify signs of those who may be in a vulnerable situation\, enhance confidence in screening and referral processes\, and enhance confidence in interagency cooperation.
URL:https://rso.baliprocess.net/calendars/training-workshop-protection-sensitive-border-management-and-screening-and-referral-of-vulnerable-migrants/
LOCATION:Jakarta\, Indonesia\, Jakarta\, Indonesia
CATEGORIES:Training Workshop
ATTACH;FMTTYPE=image/jpeg:https://s3.ap-southeast-2.amazonaws.com/assets.rso.baliprocess.net/app/uploads/2024/11/20201656/WhatsApp-Image-2024-10-28-at-11.52.46-AM-1.jpeg
END:VEVENT
BEGIN:VEVENT
DTSTART;VALUE=DATE:20250820
DTEND;VALUE=DATE:20250821
DTSTAMP:20260422T014334
CREATED:20250627T083532Z
LAST-MODIFIED:20250627T083542Z
UID:7832-1755648000-1755734399@rso.baliprocess.net
SUMMARY:RSO Members’ Engagement Function Jakarta
DESCRIPTION:The RSO Members’ Engagement Function will take place in Jakarta\, Indonesia\, bringing together embassy representatives from across the Bali Process membership\, Indonesian government officials representing law enforcement\, border and immigration and other relevant agencies\, and wider partners and stakeholders for an evening networking event—supporting and strengthening networks and connections.
URL:https://rso.baliprocess.net/calendars/rso-members-engagement-function-jakarta/
LOCATION:Jakarta\, Indonesia\, Jakarta\, Indonesia
CATEGORIES:RSO Annual Event
ATTACH;FMTTYPE=image/jpeg:https://s3.ap-southeast-2.amazonaws.com/assets.rso.baliprocess.net/app/uploads/2025/05/29171752/DSC06448.jpg
END:VEVENT
BEGIN:VEVENT
DTSTART;VALUE=DATE:20250820
DTEND;VALUE=DATE:20250822
DTSTAMP:20260422T014334
CREATED:20250627T083435Z
LAST-MODIFIED:20250807T040935Z
UID:7830-1755648000-1755820799@rso.baliprocess.net
SUMMARY:Regional Consultation on Addressing Irregular Migration through Effective Information Campaigns
DESCRIPTION:The regional consultation will bring together Bali Process Members from the Asia-Pacific region to exchange promising practices\, lessons learned\, and opportunities for improvement in relation to the design and implementation of information campaigns to address irregular migration and counter trafficking in persons\, and people smuggling. Discussions will feed into a refresh of the Bali Process Handbook on Addressing Irregular Migration through Effective Campaigns\, and Training Package on Monitoring and Evaluating Migration-related Information Campaigns.
URL:https://rso.baliprocess.net/calendars/regional-consultation-on-addressing-irregular-migration-through-effective-campaigns/
LOCATION:Jakarta\, Indonesia\, Jakarta\, Indonesia
CATEGORIES:Roundtable or Thematic Dialogue
ATTACH;FMTTYPE=image/jpeg:https://s3.ap-southeast-2.amazonaws.com/assets.rso.baliprocess.net/app/uploads/2025/06/27151314/DSC_1425-scaled.jpg
END:VEVENT
END:VCALENDAR