BEGIN:VCALENDAR
VERSION:2.0
PRODID:-//The Regional Support Office of the Bali Process - ECPv6.15.17//NONSGML v1.0//EN
CALSCALE:GREGORIAN
METHOD:PUBLISH
X-ORIGINAL-URL:https://rso.baliprocess.net
X-WR-CALDESC:Events for The Regional Support Office of the Bali Process
REFRESH-INTERVAL;VALUE=DURATION:PT1H
X-Robots-Tag:noindex
X-PUBLISHED-TTL:PT1H
BEGIN:VTIMEZONE
TZID:Australia/Perth
BEGIN:STANDARD
TZOFFSETFROM:+0800
TZOFFSETTO:+0800
TZNAME:AWST
DTSTART:20240101T000000
END:STANDARD
END:VTIMEZONE
BEGIN:VEVENT
DTSTART;TZID=Australia/Perth:20250930T080000
DTEND;TZID=Australia/Perth:20251001T170000
DTSTAMP:20260421T221010
CREATED:20250529T084423Z
LAST-MODIFIED:20250625T063721Z
UID:7517-1759219200-1759338000@rso.baliprocess.net
SUMMARY:Crisis Preparedness Forum
DESCRIPTION:The Bali Process Crisis Preparedness Forum will bring together Member States to discuss crisis preparedness readiness and responses to mass displacement events in the region resulting from natural and humanitarian pressures.
URL:https://rso.baliprocess.net/calendars/bali-process-crisis-preparedness-forum/
LOCATION:Bangkok\, Thailand\, Bangkok\, Thailand
CATEGORIES:Bali Process Event
ATTACH;FMTTYPE=image/jpeg:https://s3.ap-southeast-2.amazonaws.com/assets.rso.baliprocess.net/app/uploads/2025/03/01151948/DSC_6101-scaled-e1743492959895.jpg
END:VEVENT
BEGIN:VEVENT
DTSTART;VALUE=DATE:20251028
DTEND;VALUE=DATE:20251030
DTSTAMP:20260421T221010
CREATED:20250905T050114Z
LAST-MODIFIED:20251023T065112Z
UID:8728-1761609600-1761782399@rso.baliprocess.net
SUMMARY:Regional Dialogue on Enhancing Multi-Stakeholder Collaboration on Digital Governance and Addressing Emerging Forms of Trafficking in Persons
DESCRIPTION:This two-day regional dialogue is jointly organised by the Ministry of Public Security (MPS) of Viet Nam and the Regional Support Office of the Bali Process (RSO). The dialogue will take place alongside the 2025 Coordinated Mekong Ministerial Initiative Against Trafficking (COMMIT Process) Regional Validation Workshop for the Suggested List of Common Indicators for TIP for Forced Criminality Facilitated by Abuse of Technologies\, hosted by Viet Nam. \n \n 
URL:https://rso.baliprocess.net/calendars/regional-dialogue-on-enhancing-multi-stakeholder-collaboration-on-digital-governance-and-addressing-emerging-forms-of-trafficking-in-persons/
LOCATION:Quang Ninh Province\, Viet Nam\, Ha Long\, Viet Nam
CATEGORIES:Roundtable or Thematic Dialogue
ATTACH;FMTTYPE=image/jpeg:https://s3.ap-southeast-2.amazonaws.com/assets.rso.baliprocess.net/app/uploads/2025/09/05130428/20241211_085611-scaled.jpg
END:VEVENT
END:VCALENDAR