BEGIN:VCALENDAR
VERSION:2.0
PRODID:-//The Regional Support Office of the Bali Process - ECPv6.15.17//NONSGML v1.0//EN
CALSCALE:GREGORIAN
METHOD:PUBLISH
X-WR-CALNAME:The Regional Support Office of the Bali Process
X-ORIGINAL-URL:https://rso.baliprocess.net
X-WR-CALDESC:Events for The Regional Support Office of the Bali Process
REFRESH-INTERVAL;VALUE=DURATION:PT1H
X-Robots-Tag:noindex
X-PUBLISHED-TTL:PT1H
BEGIN:VTIMEZONE
TZID:Australia/Perth
BEGIN:STANDARD
TZOFFSETFROM:+0800
TZOFFSETTO:+0800
TZNAME:AWST
DTSTART:20250101T000000
END:STANDARD
END:VTIMEZONE
BEGIN:VEVENT
DTSTART;TZID=Australia/Perth:20260127T080000
DTEND;TZID=Australia/Perth:20260128T170000
DTSTAMP:20260421T171117
CREATED:20250526T035409Z
LAST-MODIFIED:20260112T101014Z
UID:7342-1769500800-1769619600@rso.baliprocess.net
SUMMARY:Fourth RSO Constructive Dialogue
DESCRIPTION:The Fourth RSO Constructive Dialogue will bring together senior government officials\, diplomats\, attachés\, and representatives from Bali Process Member and Observer States and Organisations whose roles support international cooperation on refugee protection and international migration. Delegates will review progress and share promising practices relating to countering people smuggling\, trafficking in persons and related transnational crime. Delegates will be invited to consider progress made against the Adelaide Strategy for Cooperation and against collective efforts outlined at the Third Constructive Dialogue\, and priority challenges and opportunities identified by frontline officers at the Border Forum – the RSO’s flagship capability development event.
URL:https://rso.baliprocess.net/calendars/fourth-rso-constructive-dialogue/
LOCATION:Bangkok\, Thailand\, Bangkok\, Thailand
CATEGORIES:RSO Annual Event
ATTACH;FMTTYPE=image/jpeg:https://s3.ap-southeast-2.amazonaws.com/assets.rso.baliprocess.net/app/uploads/2025/03/18170852/DSC09446-scaled-e1742452266603.jpg
END:VEVENT
BEGIN:VEVENT
DTSTART;TZID=Australia/Perth:20260127T170000
DTEND;TZID=Australia/Perth:20260127T170000
DTSTAMP:20260421T171117
CREATED:20260105T043133Z
LAST-MODIFIED:20260112T101046Z
UID:9844-1769533200-1769533200@rso.baliprocess.net
SUMMARY:RSO Members' Engagement Function
DESCRIPTION:The RSO Members’ Engagement Function in will convene Government officials\, members of the diplomatic corps\, International Organisations and regional partners and actors for an evening networking event. The event aims to support attendees to form new connections across borders and sectors\, to strengthen existing relationships\, and identify opportunities for collaboration in an informal setting.
URL:https://rso.baliprocess.net/calendars/members-engagement-function/
LOCATION:Bangkok\, Thailand\, Bangkok\, Thailand
CATEGORIES:RSO Annual Event
ATTACH;FMTTYPE=image/jpeg:https://s3.ap-southeast-2.amazonaws.com/assets.rso.baliprocess.net/app/uploads/2025/08/22174528/DSCF1222-scaled.jpg
END:VEVENT
BEGIN:VEVENT
DTSTART;VALUE=DATE:20260129
DTEND;VALUE=DATE:20260130
DTSTAMP:20260421T171117
CREATED:20251211T032849Z
LAST-MODIFIED:20260112T101112Z
UID:9712-1769644800-1769731199@rso.baliprocess.net
SUMMARY:Information Sharing and Regional Responses Workshop
DESCRIPTION:The RSO will host a Regional Information Sharing and Response Workshop designed to strengthen cooperation among mid- to senior-level front-line officers from law enforcement\, immigration\, and border management agencies across the Asia-Pacific region.
URL:https://rso.baliprocess.net/calendars/information-sharing-and-regional-responses-workshop/
LOCATION:Bangkok\, Thailand\, Bangkok\, Thailand
CATEGORIES:Training Workshop
ATTACH;FMTTYPE=image/jpeg:https://s3.ap-southeast-2.amazonaws.com/assets.rso.baliprocess.net/app/uploads/2025/12/09134413/6c016942b67f0c1bee47ee5e539fb79a-787x491-c-center-1.jpg
END:VEVENT
END:VCALENDAR