BEGIN:VCALENDAR
VERSION:2.0
PRODID:-//The Regional Support Office of the Bali Process - ECPv6.15.17//NONSGML v1.0//EN
CALSCALE:GREGORIAN
METHOD:PUBLISH
X-WR-CALNAME:The Regional Support Office of the Bali Process
X-ORIGINAL-URL:https://rso.baliprocess.net
X-WR-CALDESC:Events for The Regional Support Office of the Bali Process
REFRESH-INTERVAL;VALUE=DURATION:PT1H
X-Robots-Tag:noindex
X-PUBLISHED-TTL:PT1H
BEGIN:VTIMEZONE
TZID:Australia/Perth
BEGIN:STANDARD
TZOFFSETFROM:+0800
TZOFFSETTO:+0800
TZNAME:AWST
DTSTART:20250101T000000
END:STANDARD
END:VTIMEZONE
BEGIN:VTIMEZONE
TZID:Asia/Bangkok
BEGIN:STANDARD
TZOFFSETFROM:+0700
TZOFFSETTO:+0700
TZNAME:+07
DTSTART:20250101T000000
END:STANDARD
END:VTIMEZONE
BEGIN:VEVENT
DTSTART;VALUE=DATE:20260331
DTEND;VALUE=DATE:20260402
DTSTAMP:20260421T132405
CREATED:20260309T074928Z
LAST-MODIFIED:20260318T062330Z
UID:10252-1774915200-1775087999@rso.baliprocess.net
SUMMARY:RILON Maritime People Smuggling Response Group Induction Meeting
DESCRIPTION:The RSO will convene an induction meeting for all RILON secondees from Australia\, Bangladesh\, Indonesia\, Malaysia\, Thailand\, and Timor-Leste\, who will come together to form the RILON Maritime People Smuggling Response Group. This meeting will discuss and agree upon a Terms of Reference and workplan of activities that the RILON secondment group will undertake in support of the Bali Process’ efforts to counter maritime people smuggling and irregular migration. Secondees will also participate in a range of team building activities and capacity-building sessions with a focus on information sharing and leadership.
URL:https://rso.baliprocess.net/calendars/rilon-induction-meeting/
LOCATION:Bangkok\, Thailand\, Bangkok\, Thailand
CATEGORIES:Training Workshop
ATTACH;FMTTYPE=image/jpeg:https://s3.ap-southeast-2.amazonaws.com/assets.rso.baliprocess.net/app/uploads/2026/02/27145232/DSCF3746-scaled.jpg
END:VEVENT
BEGIN:VEVENT
DTSTART;TZID=Asia/Bangkok:20260331T173000
DTEND;TZID=Asia/Bangkok:20260331T173000
DTSTAMP:20260421T132405
CREATED:20260318T064333Z
LAST-MODIFIED:20260318T064333Z
UID:10377-1774978200-1774978200@rso.baliprocess.net
SUMMARY:Welcome Reception for the Incoming RSO Co-Manager from the Government of Australia
DESCRIPTION:The reception will provide an opportunity for participants to hear some short remarks from the Australian and Indonesian Co-Managers\, and to meet with peers and colleagues from across the Bali Process Member State diplomatic corps\, international organisations and stakeholders involved in international migration management\, border governance\, and counter-trafficking efforts based in Bangkok\, Thailand.
URL:https://rso.baliprocess.net/calendars/welcome-reception-for-the-incoming-rso-co-manager-from-the-government-of-australia/
LOCATION:Bangkok\, Thailand\, Bangkok\, Thailand
ATTACH;FMTTYPE=image/png:https://s3.ap-southeast-2.amazonaws.com/assets.rso.baliprocess.net/app/uploads/2026/03/18143440/David-and-Ben.png
END:VEVENT
END:VCALENDAR