BEGIN:VCALENDAR
VERSION:2.0
PRODID:-//The Regional Support Office of the Bali Process - ECPv6.15.17//NONSGML v1.0//EN
CALSCALE:GREGORIAN
METHOD:PUBLISH
X-ORIGINAL-URL:https://rso.baliprocess.net
X-WR-CALDESC:Events for The Regional Support Office of the Bali Process
REFRESH-INTERVAL;VALUE=DURATION:PT1H
X-Robots-Tag:noindex
X-PUBLISHED-TTL:PT1H
BEGIN:VTIMEZONE
TZID:Australia/Perth
BEGIN:STANDARD
TZOFFSETFROM:+0800
TZOFFSETTO:+0800
TZNAME:AWST
DTSTART:20230101T000000
END:STANDARD
END:VTIMEZONE
BEGIN:VEVENT
DTSTART;VALUE=DATE:20240409
DTEND;VALUE=DATE:20240612
DTSTAMP:20260423T191336
CREATED:20250310T080242Z
LAST-MODIFIED:20250529T085518Z
UID:6741-1712620800-1718150399@rso.baliprocess.net
SUMMARY:Workshop for Strengthening Mongolia’s Cybercrime Investigative Capacity into Trafficking in Persons Cases
DESCRIPTION:The RSO will hold the second workshop for strengthening Mongolia’s cybercrime investigative capacity into trafficking in persons cases from 9-11 April 2024.
URL:https://rso.baliprocess.net/calendars/workshop-for-strengthening-mongolias-cybercrime-investigative-capacity-into-trafficking-in-persons-cases/
CATEGORIES:Training Workshop
ATTACH;FMTTYPE=image/jpeg:https://s3.ap-southeast-2.amazonaws.com/assets.rso.baliprocess.net/app/uploads/2024/02/15112243/Media-2-e1707967440284.jpeg
END:VEVENT
END:VCALENDAR